BEGIN:VCALENDAR
VERSION:2.0
PRODID:-//RCCG Praise Chapel - ECPv6.15.16.1//NONSGML v1.0//EN
CALSCALE:GREGORIAN
METHOD:PUBLISH
X-ORIGINAL-URL:https://rccgpraisechapel.org
X-WR-CALDESC:Events for RCCG Praise Chapel
REFRESH-INTERVAL;VALUE=DURATION:PT1H
X-Robots-Tag:noindex
X-PUBLISHED-TTL:PT1H
BEGIN:VTIMEZONE
TZID:UTC
BEGIN:STANDARD
TZOFFSETFROM:+0000
TZOFFSETTO:+0000
TZNAME:UTC
DTSTART:20231231T160000
END:STANDARD
END:VTIMEZONE
BEGIN:VEVENT
DTSTART;TZID=UTC:20251231T130000
DTEND;TZID=UTC:20251231T190000
DTSTAMP:20260425T112828
CREATED:20161206T043459Z
LAST-MODIFIED:20260111T051849Z
UID:6376-1767186000-1767207600@rccgpraisechapel.org
SUMMARY:New Year - Crossover
DESCRIPTION:Cross over service
URL:https://rccgpraisechapel.org/event/new-year-crossover/
CATEGORIES:Yearly
ATTACH;FMTTYPE=image/jpeg:https://rccgpraisechapel.org/wp-content/uploads/2016/12/IMG_7595.jpg
END:VEVENT
BEGIN:VEVENT
DTSTART;TZID=UTC:20251225T030000
DTEND;TZID=UTC:20251225T084000
DTSTAMP:20260425T112828
CREATED:20161206T043622Z
LAST-MODIFIED:20260111T052208Z
UID:6380-1766631600-1766652000@rccgpraisechapel.org
SUMMARY:Christmas Celebration Service
DESCRIPTION:
URL:https://rccgpraisechapel.org/event/christmas-celebration-service/
CATEGORIES:Yearly
ATTACH;FMTTYPE=image/jpeg:https://rccgpraisechapel.org/wp-content/uploads/2016/12/IMG_7594.jpg
END:VEVENT
BEGIN:VEVENT
DTSTART;TZID=UTC:20251214T013000
DTEND;TZID=UTC:20251214T090000
DTSTAMP:20260425T112828
CREATED:20161206T004918Z
LAST-MODIFIED:20260111T051613Z
UID:6338-1765675800-1765702800@rccgpraisechapel.org
SUMMARY:Children Christmas Party
DESCRIPTION:Children Christmas Party
URL:https://rccgpraisechapel.org/event/children-christmas-party/
CATEGORIES:Yearly
ATTACH;FMTTYPE=image/jpeg:https://rccgpraisechapel.org/wp-content/uploads/2016/12/IMG_7596.jpg
ORGANIZER;CN="Alex Aurica":MAILTO:alexaurica@gmail.com
END:VEVENT
BEGIN:VEVENT
DTSTART;TZID=UTC:20260111T033000
DTEND;TZID=UTC:20260111T033000
DTSTAMP:20260425T112828
CREATED:20161206T010254Z
LAST-MODIFIED:20260111T051341Z
UID:6343-1768102200-1768102200@rccgpraisechapel.org
SUMMARY:Gratitude Offering Month
DESCRIPTION:Gratitude Offering Month
URL:https://rccgpraisechapel.org/event/gratitude-offering-month/
ATTACH;FMTTYPE=image/jpeg:https://rccgpraisechapel.org/wp-content/uploads/2016/12/IMG_7597.jpg
END:VEVENT
END:VCALENDAR